BEGIN:VCALENDAR
VERSION:2.0
PRODID:-//demosphere.net//NONSGML kigkonsult.se iCalcreator 2.22.1//
METHOD:REQUEST
X-WR-TIMEZONE:Europe/Paris
BEGIN:VEVENT
UID:https://gironde.demosphere.net/rv/16662
DTSTAMP:20260422T173000Z
DESCRIPTION:plus d'infos sur : https://gironde.demosphere.net/rv/16662
DTSTART:20260422T173000Z
DTEND:20260422T183000Z
LOCATION:Bordeaux\, \nLe Girofard \n21\, rue du Loup \n33000 Bordeaux
SUMMARY:Formation CLAP33 - La préservation des droits LGBTQIA+
URL:https://gironde.demosphere.net/rv/16662
END:VEVENT
END:VCALENDAR
