BEGIN:VCALENDAR
VERSION:2.0
PRODID:-//demosphere.net//NONSGML kigkonsult.se iCalcreator 2.22.1//
METHOD:REQUEST
X-WR-TIMEZONE:Europe/Paris
BEGIN:VEVENT
UID:https://gironde.demosphere.net/rv/16663
DTSTAMP:20260425T080000Z
DESCRIPTION:plus d'infos sur : https://gironde.demosphere.net/rv/16663
DTSTART:20260425T080000Z
DTEND:20260425T090000Z
LOCATION:Bordeaux\, \nPLATAU \n31 bis rue Barillet Deschamps \n33300 Bordea
 ux-Bacalan
SUMMARY:Les 48h de l'agriculture urbaine à Platau
URL:https://gironde.demosphere.net/rv/16663
END:VEVENT
END:VCALENDAR
