BEGIN:VCALENDAR
VERSION:2.0
PRODID:-//demosphere.net//NONSGML kigkonsult.se iCalcreator 2.22.1//
METHOD:REQUEST
X-WR-TIMEZONE:Europe/Paris
BEGIN:VEVENT
UID:https://gironde.demosphere.net/rv/16664
DTSTAMP:20260603T180000Z
DESCRIPTION:plus d'infos sur : https://gironde.demosphere.net/rv/16664
DTSTART:20260603T180000Z
DTEND:20260603T190000Z
LOCATION:Bordeaux\, \nLe Petit Grain \nPlace Dormoy \n33000 Bordeaux
SUMMARY:Cours gratuits d'Espéranto
URL:https://gironde.demosphere.net/rv/16664
END:VEVENT
END:VCALENDAR
