BEGIN:VCALENDAR
VERSION:2.0
PRODID:-//demosphere.net//NONSGML kigkonsult.se iCalcreator 2.22.1//
METHOD:REQUEST
X-WR-TIMEZONE:Europe/Paris
BEGIN:VEVENT
UID:https://gironde.demosphere.net/rv/16665
DTSTAMP:20260424T170000Z
DESCRIPTION:plus d'infos sur : https://gironde.demosphere.net/rv/16665
DTSTART:20260424T170000Z
DTEND:20260424T180000Z
LOCATION:Bordeaux\, \nAthénée Libertaire \n7 rue du Muguet \n33000 Bordeaux
SUMMARY:Lecture poétique- Artistes palestiniennes à l'honneur
URL:https://gironde.demosphere.net/rv/16665
END:VEVENT
END:VCALENDAR
