BEGIN:VCALENDAR
VERSION:2.0
PRODID:-//demosphere.net//NONSGML kigkonsult.se iCalcreator 2.22.1//
METHOD:REQUEST
X-WR-TIMEZONE:Europe/Paris
BEGIN:VEVENT
UID:https://gironde.demosphere.net/rv/16667
DTSTAMP:20260501T093000Z
DESCRIPTION:plus d'infos sur : https://gironde.demosphere.net/rv/16667
DTSTART:20260501T093000Z
DTEND:20260501T103000Z
LOCATION:Bordeaux\, \nLieu à définir
SUMMARY:Le TRAVAIL est une PRISON\, syndicats & politiques les MATONS
URL:https://gironde.demosphere.net/rv/16667
END:VEVENT
END:VCALENDAR
