BEGIN:VCALENDAR
VERSION:2.0
PRODID:-//demosphere.net//NONSGML kigkonsult.se iCalcreator 2.22.1//
METHOD:REQUEST
X-WR-TIMEZONE:Europe/Paris
BEGIN:VEVENT
UID:https://gironde.demosphere.net/rv/16668
DTSTAMP:20260426T093000Z
DESCRIPTION:plus d'infos sur : https://gironde.demosphere.net/rv/16668
DTSTART:20260426T093000Z
DTEND:20260426T103000Z
LOCATION:Bordeaux\, \nPlace Dormoy \n33800 Bordeaux
SUMMARY:Vide grenier de quartier
URL:https://gironde.demosphere.net/rv/16668
END:VEVENT
END:VCALENDAR
