BEGIN:VCALENDAR
VERSION:2.0
PRODID:-//demosphere.net//NONSGML kigkonsult.se iCalcreator 2.22.1//
METHOD:REQUEST
X-WR-TIMEZONE:Europe/Paris
BEGIN:VEVENT
UID:https://gironde.demosphere.net/rv/16669
DTSTAMP:20260425T080000Z
DESCRIPTION:plus d'infos sur : https://gironde.demosphere.net/rv/16669
DTSTART:20260425T080000Z
DTEND:20260425T090000Z
LOCATION:Bordeaux\, \nPlace St Michel \n33000 Bordeaux
SUMMARY: Fête du Printemps de St Michel
URL:https://gironde.demosphere.net/rv/16669
END:VEVENT
END:VCALENDAR
