BEGIN:VCALENDAR
VERSION:2.0
PRODID:-//demosphere.net//NONSGML kigkonsult.se iCalcreator 2.22.1//
METHOD:REQUEST
X-WR-TIMEZONE:Europe/Paris
BEGIN:VEVENT
UID:https://gironde.demosphere.net/rv/16670
DTSTAMP:20260426T110000Z
DESCRIPTION:plus d'infos sur : https://gironde.demosphere.net/rv/16670
DTSTART:20260426T110000Z
DTEND:20260426T120000Z
LOCATION:Le Tourne\, \nRoute de Tabanac
SUMMARY:Toc Ta Graine #6
URL:https://gironde.demosphere.net/rv/16670
END:VEVENT
END:VCALENDAR
