BEGIN:VCALENDAR
VERSION:2.0
PRODID:-//demosphere.net//NONSGML kigkonsult.se iCalcreator 2.22.1//
METHOD:REQUEST
X-WR-TIMEZONE:Europe/Paris
BEGIN:VEVENT
UID:https://gironde.demosphere.net/rv/16671
DTSTAMP:20260425T090000Z
DESCRIPTION:plus d'infos sur : https://gironde.demosphere.net/rv/16671
DTSTART:20260425T090000Z
DTEND:20260425T100000Z
LOCATION:Bègles\, \nJardin l'Ephémère \nAu bout de la rue du Général Faidhe
 rbe \n33130 Bègles
SUMMARY:Journée 'Nature et Création'
URL:https://gironde.demosphere.net/rv/16671
END:VEVENT
END:VCALENDAR
