BEGIN:VCALENDAR
VERSION:2.0
PRODID:-//demosphere.net//NONSGML kigkonsult.se iCalcreator 2.22.1//
METHOD:REQUEST
X-WR-TIMEZONE:Europe/Paris
BEGIN:VEVENT
UID:https://gironde.demosphere.net/rv/16672
DTSTAMP:20260426T130000Z
DESCRIPTION:plus d'infos sur : https://gironde.demosphere.net/rv/16672
DTSTART:20260426T130000Z
DTEND:20260426T140000Z
LOCATION:Le Verdon\, \nPlace de La Chambrette
SUMMARY:Rassemblement contre l'usine Pure Salmon
URL:https://gironde.demosphere.net/rv/16672
END:VEVENT
END:VCALENDAR
